BEGIN:VCALENDAR
VERSION:2.0
PRODID:-//wp-events-plugin.com//7.2.3.1//EN
BEGIN:VEVENT
UID:1@altstadt-tal.in-minga.com
DTSTART:20240708T170000Z
DTEND:20240708T200000Z
DTSTAMP:20240630T114013Z
URL:https://altstadt-tal.in-minga.com/events/mobilitaetsreferat-stellt-kon
 zeptentwuerfe-zur-altstadt-fuer-alle-vor/
SUMMARY:Mobilitätsreferat stellt Konzeptentwürfe zur „Altstadt für all
 e“ vor
DESCRIPTION:Die Münchner Altstadt ist ein bedeutender Ort:\nAnlaufpunkt f
 ür Menschen aus der Stadt und der Region\, touristisch attraktiv für Gä
 ste aus aller Welt. Die Altstadt dient als Einkaufs-\, Kultur-\, Versorgun
 gs-\, Arbeits- und Wohnort.\nDer Stadtkern soll künftig noch stärker zu 
 einem Ort der Begegnung und des Aufenthalts für alle werden. Gleichzeitig
  muss man gut und komfortabel ins Zentrum kommen. Unter Leitung des Mobili
 tätsreferats wird deshalb ein Konzept erarbeitet\, das den öffentlichen 
 Straßenraum in der Altstadt neu aufteilt und eine „Altstadt für alle
 “ schafft.\n\nNach der Auftaktveranstaltung im Oktober 2023\, bei der di
 e Ideen der Bürger*innen gesammelt wurden\, folgt nun die zweite Veransta
 ltung für alle Interessierten.\nAm Montag\, 8. Juli\, um 18 Uhr stellen B
 ürgermeister Dominik Krause und Mobilitätsreferent Georg Dunkel im Saal 
 des Alten Rathauses\, Marienplatz 15\, gemeinsam mit den beauftragten Plan
 ungsbüros Gehl Architects und USP Projekte erste Konzeptentwürfe vor. Ge
 meinsam mit den Bürger*innen werden die Vorschläge diskutiert und konkre
 tisiert. Auch diese Ergebnisse fließen wieder in das Gesamtkonzept zur Ne
 uaufteilung des öffentlichen Raums ein.\nEine Anmeldung ist bis Donnersta
 g\, 4. Juli\, 12 Uhr\, unter muenchenunterwegs.de/afa-2 möglich. Die Te
 ilnehmerzahl ist aufgrund des Platzangebots begrenzt\, es wird aber eine W
 arteliste geführt.\n\nFoto: © Mobilitätsreferat der LHM
CATEGORIES:Sonstiges
LOCATION:Alter Rathaussaal\, Marienplatz 15\, München\, Bayern\, 80331\, D
 eutschland
X-APPLE-STRUCTURED-LOCATION;VALUE=URI;X-ADDRESS=Marienplatz 15\, München\,
  Bayern\, 80331\, Deutschland;X-APPLE-RADIUS=100;X-TITLE=Alter Rathaussaal
 :geo:0,0
END:VEVENT
END:VCALENDAR