BEGIN:VCALENDAR
VERSION:2.0
PRODID:-//wp-events-plugin.com//7.2.3.1//EN
BEGIN:VEVENT
UID:2@altstadt-tal.in-minga.com
DTSTART;TZID=Europe/Berlin:20251110T193000
DTEND;TZID=Europe/Berlin:20251110T213000
DTSTAMP:20251105T221104Z
URL:https://altstadt-tal.in-minga.com/events/dialogabend-der-buergerinitia
 tive-altstadt/
SUMMARY:Dialogabend der Bürgerinitiative Altstadt
DESCRIPTION:Eine Altstadt wirklich für Alle? – Zwischen\nLebensqualität
 \, Erreichbarkeit und\nWirtschaftskraft\nThemen des Abends\nAlltag\, Liefe
 rlogistik und Erreichbarkeit im neuen Altstadtkonzept\nZielkonflikte zwisc
 hen Wirtschaft\, Stadtplanung und Bürgerinteressen\nWie kann eine „Alts
 tadt für alle“ wirklich funktionieren – für Gewerbe\,\nBewohnerinnen
 /Bewohner und Besucherinnen/Besucher gleichermaßen?\nMontag\, 10. Novembe
 r 2025\num 19:30 Uhr\nWeisses Bräuhaus München\, Tal 7\nIm Gespräch mit
 :\nWolfgang Fischer\, CityPartner München e.V.\nWolfgang Sinzinger\, Reta
 il-Experte\, Sprecher Retail der BI\nDr. med. dent. Wolfgang Hiltscher\, Z
 ahnarzt\, Stv. Sprecher\nder BI für den Bereich Gesundheit\n\nModeration:
 \nMargarethe Stadlbauer\, 1. Sprecherin der Bürgerinitiative /\nSprecheri
 n Bürgerbeteiligung und Stadtentwicklung\n\n&nbsp\;\nEine Altstadt wirkli
 ch\nfür Alle? – Bedürfnisse\nvon Bewohnern\,\nBetrieben und\nBesuchern
  im Dialog\nWorum geht’s?\nWas bedeutet der Stadtratsbeschluss „Altsta
 dt für Alle“\nder am 12.11.2025 im Mobilitätsausschuss und am\n26.11.2
 025 im Stadtrat verabschiedet werden soll\, konkret\nfür die Menschen\, d
 ie hier leben und arbeiten?\nWie wirkt sich das neue Konzept auf Gewerbe\,
  Praxen\,\nGastronomie und den Handel aus?\nUnd was brauchen die Anwohneri
 nnen und Anwohner\,\ndamit die Altstadt auch künftig ein lebendiger\, vie
 lfältiger\nund lebenswerter Ort bleibt?\nWir möchten darüber offen spre
 chen –\nmit Vertreterinnen und Vertretern aus Wirtschaft\, Medizin und B
 ürgerschaft.\nIm Dialog mit den Anwohnern der Bürgerinitiative Altstadt 
 München:\nUlf Stefan Brunner – Sprecher mobilitätseingeschränkte Pers
 onen und Generationen\nRoman Roell – Sprecher Verkehr\nWolfgang Neumer 
 – Sprecher Gastronomie\, Öffentlicher Raum\nSuzanne Bieber – Sprecher
 in Tourismus\nPhilipp Riediger – Sprecher Kultur und Sicherheit\nCharlot
 te Böhmler – Sprecherin soziale Belange\nWolfgang Sinzinger – Spreche
 r Retail/Einzelhandel\nElke Fett – Sprecherin Viktualienmarkt\n\nBitte u
 m Rückmeldung an: tal-initiative@magenta.de\n\n[pdf-embedder url="https:/
 /altstadt-tal.in-minga.com/wp-content/uploads/2025/11/Flyer101125_BIAltsta
 dt-final.pdf"]\n\n&nbsp\;
ATTACH;FMTTYPE=image/jpeg:https://altstadt-tal.in-minga.com/wp-content/upl
 oads/2023/10/logo_altstadt-tal-bi_1200-600x350-1.jpg
CATEGORIES:Sonstiges
END:VEVENT
BEGIN:VTIMEZONE
TZID:Europe/Berlin
X-LIC-LOCATION:Europe/Berlin
BEGIN:STANDARD
DTSTART:20251026T020000
TZOFFSETFROM:+0200
TZOFFSETTO:+0100
TZNAME:CET
END:STANDARD
END:VTIMEZONE
END:VCALENDAR